BEGIN:VCALENDAR
VERSION:2.0
PRODID:-//ChamberMaster//Event Calendar 2.0//EN
METHOD:PUBLISH
X-PUBLISHED-TTL:P3D
REFRESH-INTERVAL:P3D
CALSCALE:GREGORIAN
BEGIN:VEVENT
DTSTART:20241004T220000Z
DTEND:20241005T010000Z
X-MICROSOFT-CDO-ALLDAYEVENT:FALSE
SUMMARY:5th Annual Pumpkin Patch
DESCRIPTION:Join us on the patio and enjoy live music by Brenda Beldsoe! Carve your own clay pumpkin in the studio!  Hand-crafted pumpkins for sale made by members of the Kiln!
X-ALT-DESC;FMTTYPE=text/html:Join us on the patio and enjoy live music by Brenda Beldsoe! Carve your own clay pumpkin in the studio!&nbsp\; Hand-crafted pumpkins for sale made by members of the Kiln!
LOCATION:The Kiln Studio & Gallery\, 9 North Church Street\, Suite A\, Fairhope\, AL
UID:e.1304.35732
SEQUENCE:3
DTSTAMP:20260423T023641Z
URL:http://eschamber.chambermaster.com/events/details/5th-annual-pumpkin-patch-35732
END:VEVENT

END:VCALENDAR
