BEGIN:VCALENDAR
VERSION:2.0
PRODID:-//ChamberMaster//Event Calendar 2.0//EN
METHOD:PUBLISH
X-PUBLISHED-TTL:P3D
REFRESH-INTERVAL:P3D
CALSCALE:GREGORIAN
BEGIN:VEVENT
DTSTART:20240912T233000Z
DTEND:20240913T023000Z
X-MICROSOFT-CDO-ALLDAYEVENT:FALSE
SUMMARY:Bell Bottom Boogie Dance
DESCRIPTION:Music by JR Owens
X-ALT-DESC;FMTTYPE=text/html:Music by JR Owens
LOCATION:James P. Nix Center\, 1 Bayou Drive\, Fairhope\, AL
UID:e.1304.35663
SEQUENCE:3
DTSTAMP:20260421T010646Z
URL:http://eschamber.chambermaster.com/events/details/bell-bottom-boogie-dance-35663
END:VEVENT

END:VCALENDAR
