BEGIN:VCALENDAR
VERSION:2.0
PRODID:-//ChamberMaster//Event Calendar 2.0//EN
METHOD:PUBLISH
X-PUBLISHED-TTL:P3D
REFRESH-INTERVAL:P3D
CALSCALE:GREGORIAN
BEGIN:VEVENT
DTSTART:20241008T230000Z
DTEND:20241009T010000Z
X-MICROSOFT-CDO-ALLDAYEVENT:FALSE
SUMMARY:Book Launch Party
DESCRIPTION:You're invited to the book launch party of "We Don't Push in Fairhope"\, written by Leslie Ann Tarabella.  She bring us a glimpse of a fast growing small town with a walking school bus\, dogs in costumes\, ladies in pretty outfits\, and perfect Pyrex collections - but never people who push.
X-ALT-DESC;FMTTYPE=text/html:You&#39\;re invited to the book launch party of &quot\;We Don&#39\;t Push in Fairhope&quot\;\, written by Leslie Ann Tarabella.&nbsp\; She bring us a glimpse of a fast growing small town with a walking school bus\, dogs in costumes\, ladies in pretty outfits\, and perfect Pyrex collections - but never people who push.
LOCATION:Page and Palette Bookstore\, 32 South Section Street\, Fairhope\, AL
UID:e.1304.35729
SEQUENCE:3
DTSTAMP:20260421T011131Z
URL:http://eschamber.chambermaster.com/events/details/book-launch-party-35729
END:VEVENT

END:VCALENDAR
