BEGIN:VCALENDAR
VERSION:2.0
PRODID:-//ChamberMaster//Event Calendar 2.0//EN
METHOD:PUBLISH
X-PUBLISHED-TTL:P3D
REFRESH-INTERVAL:P3D
CALSCALE:GREGORIAN
BEGIN:VEVENT
DTSTART:20240419T230000Z
DTEND:20240420T020000Z
X-MICROSOFT-CDO-ALLDAYEVENT:FALSE
SUMMARY:Booker Wine Dinner
DESCRIPTION:Join our Wine Director\, Will Jones\, and a representative from Booker Winery for a four course tasting with dinner paired by Chef Adam Stephens. We will explore both the My Favorite Neighbor series and two single expressions of Booker Winery. Don't miss out on this epic night of decadent wines and delicious food.
X-ALT-DESC;FMTTYPE=text/html:Join our Wine Director\, Will Jones\, and a representative from Booker Winery for a four course tasting with dinner paired by Chef Adam Stephens. We will explore both the My Favorite Neighbor series and two single expressions of Booker Winery. Don&rsquo\;t miss out on this epic night of decadent wines and delicious food.
LOCATION:The Barn at The Hope Farm
UID:e.1304.30109
SEQUENCE:3
DTSTAMP:20260422T043100Z
URL:http://eschamber.chambermaster.com/events/details/booker-wine-dinner-30109
END:VEVENT

END:VCALENDAR
