BEGIN:VCALENDAR
VERSION:2.0
PRODID:-//ChamberMaster//Event Calendar 2.0//EN
METHOD:PUBLISH
X-PUBLISHED-TTL:P3D
REFRESH-INTERVAL:P3D
CALSCALE:GREGORIAN
BEGIN:VEVENT
DTSTART:20241123T000000Z
DTEND:20241123T020000Z
X-MICROSOFT-CDO-ALLDAYEVENT:FALSE
SUMMARY:Corks\, Casks & Canvas
DESCRIPTION:Bourbon\, Wine\, Art & Cigars: An Unforgettable Evening\n\nIndulge in a night of sophistication with: Fine Wine Tasting\, Bourbon Tastings\, Premium Cigars\n\nImmerse yourself in the stunning works of art from some of the Eastern Shore's most talented artists along with a Silent Auction and Live Auction.
X-ALT-DESC;FMTTYPE=text/html:Bourbon\, Wine\, Art &amp\; Cigars: An Unforgettable Evening<br />\nIndulge in a night of sophistication with: Fine Wine Tasting\, Bourbon Tastings\, Premium Cigars<br />\nImmerse yourself in the stunning works of art from some of the Eastern Shore&#39\;s most talented artists along with a Silent Auction and Live Auction.<br />\n&nbsp\;
LOCATION:Eastern Shore Art Center\, 401 Oak Street\, Fairhope\, AL
UID:e.1304.35967
SEQUENCE:3
DTSTAMP:20260420T051754Z
URL:http://eschamber.chambermaster.com/events/details/corks-casks-canvas-35967
END:VEVENT

END:VCALENDAR
