BEGIN:VCALENDAR
VERSION:2.0
PRODID:-//ChamberMaster//Event Calendar 2.0//EN
METHOD:PUBLISH
X-PUBLISHED-TTL:P3D
REFRESH-INTERVAL:P3D
CALSCALE:GREGORIAN
BEGIN:VEVENT
DTSTART:20241010T233000Z
DTEND:20241011T023000Z
X-MICROSOFT-CDO-ALLDAYEVENT:FALSE
SUMMARY:Frightfully Fun Night Dance
DESCRIPTION:Join us for our Frightfully Fun Night Dance sponsored by Community Hospice. Music by Night Star.
X-ALT-DESC;FMTTYPE=text/html:Join us for our Frightfully Fun Night Dance sponsored by Community Hospice. Music by Night Star.
LOCATION:James P. Nix Center\, 1 Bayou Drive\, Fairhope\, AL
UID:e.1304.35739
SEQUENCE:3
DTSTAMP:20260423T073929Z
URL:http://eschamber.chambermaster.com/events/details/frightfully-fun-night-dance-35739
END:VEVENT

END:VCALENDAR
