BEGIN:VCALENDAR
VERSION:2.0
PRODID:-//ChamberMaster//Event Calendar 2.0//EN
METHOD:PUBLISH
X-PUBLISHED-TTL:P3D
REFRESH-INTERVAL:P3D
CALSCALE:GREGORIAN
BEGIN:VEVENT
DTSTART:20250622T000000Z
DTEND:20250622T030000Z
X-MICROSOFT-CDO-ALLDAYEVENT:FALSE
SUMMARY:Ovation Gala
DESCRIPTION:Please join the Baldwin Pops for their annual fundraiser "Ovation Gala - Dance Like it's 1945"\, featuring music from the Mobile Big Band Society.  It will be an evening of dinner\, drinks and swing dancing benefiting the Baldwin Pops. There will be a silent auction\, an optional dance contest and Best Dressed Award.
X-ALT-DESC;FMTTYPE=text/html:Please join the Baldwin Pops for their annual fundraiser &quot\;Ovation Gala - Dance Like it&#39\;s 1945&quot\;\, featuring music from the Mobile Big Band Society.&nbsp\; It will be an evening of dinner\, drinks and swing dancing benefiting the Baldwin Pops. There will be a silent auction\, an optional dance contest and Best Dressed Award.
LOCATION:Fairhope Civic Center 161 N. Section Street Fairhope\, AL
UID:e.1304.37438
SEQUENCE:3
DTSTAMP:20260419T150726Z
URL:http://eschamber.chambermaster.com/events/details/ovation-gala-37438
END:VEVENT

END:VCALENDAR
