BEGIN:VCALENDAR
VERSION:2.0
PRODID:-//ChamberMaster//Event Calendar 2.0//EN
METHOD:PUBLISH
X-PUBLISHED-TTL:P3D
REFRESH-INTERVAL:P3D
CALSCALE:GREGORIAN
BEGIN:VEVENT
DTSTART:20250422T070000Z
DTEND:20250423T200000Z
X-MICROSOFT-CDO-ALLDAYEVENT:FALSE
SUMMARY:Parkinson's Support Group
DESCRIPTION:Please join us at The Reserve at Fairhope for our monthly Parkinson's Support Group. The Reserve\, Arabella Rehab Health and Wellness of Fairhope\, and the Parkinson's Association of AL all come together to host a monthly meet-up for those affected by Parkinson's. Whether you are a caregiver\, patient or family member of someone with Parkinson's\, we would love to offer you great resources and support from your fellow Parkinson's community. \n\n\n\nPlease save the dates for our next monthly meetings as well: May 20 and June 24. All meetings will take place on Tuesdays at 2 PM.
X-ALT-DESC;FMTTYPE=text/html:Please join us at The Reserve at Fairhope for our monthly Parkinson&#39\;s Support Group. The Reserve\, Arabella Rehab Health and Wellness of Fairhope\, and the Parkinson&#39\;s Association of AL all come together to host a monthly meet-up for those affected by Parkinson&#39\;s. Whether you are a caregiver\, patient or family member of someone with Parkinson&#39\;s\, we would love to offer you great resources and support from your fellow Parkinson&#39\;s community.&nbsp\;<br />\n<br />\nPlease save the dates for our next monthly meetings as well: May 20 and June 24. All meetings will take place on Tuesdays at 2 PM.&nbsp\;
LOCATION:604 Reserve Loop Fairhope\, AL 36532
UID:e.1304.37394
SEQUENCE:3
DTSTAMP:20260422T063755Z
URL:http://eschamber.chambermaster.com/events/details/parkinson-s-support-group-37394
END:VEVENT

END:VCALENDAR
