BEGIN:VCALENDAR
VERSION:2.0
PRODID:-//ChamberMaster//Event Calendar 2.0//EN
METHOD:PUBLISH
X-PUBLISHED-TTL:P3D
REFRESH-INTERVAL:P3D
CALSCALE:GREGORIAN
BEGIN:VEVENT
DTSTART:20241005T223000Z
DTEND:20241006T000000Z
X-MICROSOFT-CDO-ALLDAYEVENT:FALSE
SUMMARY:Speed Drawing
DESCRIPTION:Do you like doodle drawing? Blakeley invites you to bring a friend to a fun early evening event in which we will explore our creativity and learn some fundamental drawing techniques in a relaxed but fast-paced atmosphere. Speed drawing is a little like speed dating\, only participants will be drawing instead. Several stations will be set up with objects ranging in complexity to spark the imagination. Participants have only a few minutes at each station. Utilizing some of the fundamentals introduced by our knowledgeable instructor\, they will create something unique! This class is not about precision\, but rather using visual observation to tap into inner abilities. Bring a sketch pad and a pencil or a black ink pen\, a sense of humor\, and leave your perfectionism at home. Celebrate your accomplishments with a slice or two of pizza afterward.
X-ALT-DESC;FMTTYPE=text/html:Do you like doodle drawing? Blakeley invites you to bring a friend to a fun early evening event in which we will explore our creativity and learn some fundamental drawing techniques in a relaxed but fast-paced atmosphere. Speed drawing is a little like speed dating\, only participants will be drawing instead. Several stations will be set up with objects&mdash\;ranging in complexity&mdash\;to spark the imagination. Participants have only a few minutes at each station. Utilizing some of the fundamentals introduced by our knowledgeable instructor\, they will create something unique! This class is not about precision\, but rather using visual observation to tap into inner abilities. Bring a sketch pad and a pencil or a black ink pen\, a sense of humor\, and leave your perfectionism at home. Celebrate your accomplishments with a slice or two of pizza afterward.
LOCATION:Historic Blakeley State Park
UID:e.1304.35637
SEQUENCE:3
DTSTAMP:20260421T140122Z
URL:http://eschamber.chambermaster.com/events/details/speed-drawing-35637
END:VEVENT

END:VCALENDAR
