BEGIN:VCALENDAR
VERSION:2.0
PRODID:-//ChamberMaster//Event Calendar 2.0//EN
METHOD:PUBLISH
X-PUBLISHED-TTL:P3D
REFRESH-INTERVAL:P3D
CALSCALE:GREGORIAN
BEGIN:VEVENT
DTSTART:20240927T133000Z
DTEND:20240927T143000Z
X-MICROSOFT-CDO-ALLDAYEVENT:FALSE
SUMMARY:Young Professionals Coffee Social: Jubilee Java
DESCRIPTION:Young Professional Coffee Social\n\nJubilee Java
X-ALT-DESC;FMTTYPE=text/html:Young Professional Coffee Social<br />\nJubilee Java
LOCATION:Jubilee Java 19551 Greeno Rd Ste A Fairhope\, AL\, 36532
UID:e.1304.35711
SEQUENCE:3
DTSTAMP:20260421T030205Z
URL:http://eschamber.chambermaster.com/events/details/young-professionals-coffee-social-jubilee-java-35711
END:VEVENT

END:VCALENDAR
